BEGIN:VCALENDAR
VERSION:2.0
PRODID:-//Dakota Resources - ECPv6.15.20//NONSGML v1.0//EN
CALSCALE:GREGORIAN
METHOD:PUBLISH
X-WR-CALNAME:Dakota Resources
X-ORIGINAL-URL:https://dakotaresources.org
X-WR-CALDESC:Events for Dakota Resources
REFRESH-INTERVAL;VALUE=DURATION:PT1H
X-Robots-Tag:noindex
X-PUBLISHED-TTL:PT1H
BEGIN:VTIMEZONE
TZID:UTC
BEGIN:STANDARD
TZOFFSETFROM:+0000
TZOFFSETTO:+0000
TZNAME:UTC
DTSTART:20240101T000000
END:STANDARD
END:VTIMEZONE
BEGIN:VEVENT
DTSTART;VALUE=DATE:20251006
DTEND;VALUE=DATE:20251118
DTSTAMP:20260426T000900
CREATED:20250731T163501Z
LAST-MODIFIED:20250731T163501Z
UID:4054-1759708800-1763423999@dakotaresources.org
SUMMARY:Thriverr Learn: Getting Beyond the Same 10 People cohort
DESCRIPTION:Join Dakota Resources and Executive Director of Growing Small Towns\, Rebecca Undem for this interactive and engaging cohort process. Using the Framework for Change\, participants in this cohort will learn and apply a new approach to engaging volunteers in their community. Participants will use this process to improve the results related to a specific community project and develop the knowledge necessary to improve any community project requiring volunteers. \nAt the end of this cohort experience\, participants will develop a newly revised and innovative approach to engaging their community and gaining buy-in for a current project/event/committee\, using a proven\, repeatable process. \nDates for this cohort are October 6\, October 27\, November 3\, and November 17. Each session runs from 12:30 – 1:30 p.m. CT with an optional 30-minute immediately following each session for questions\, answers\, and deeper understanding. \nRegister today!
URL:https://dakotaresources.org/event/thriverr-learn-getting-beyond-the-same-10-people-cohort/
LOCATION:Zoom Virtual Meeting
ORGANIZER;CN="Dakota Resources":MAILTO:info@dakotaresources.org
END:VEVENT
END:VCALENDAR