BEGIN:VCALENDAR
VERSION:2.0
PRODID:-//Dakota Resources - ECPv6.15.20//NONSGML v1.0//EN
CALSCALE:GREGORIAN
METHOD:PUBLISH
X-ORIGINAL-URL:https://dakotaresources.org
X-WR-CALDESC:Events for Dakota Resources
REFRESH-INTERVAL;VALUE=DURATION:PT1H
X-Robots-Tag:noindex
X-PUBLISHED-TTL:PT1H
BEGIN:VTIMEZONE
TZID:UTC
BEGIN:STANDARD
TZOFFSETFROM:+0000
TZOFFSETTO:+0000
TZNAME:UTC
DTSTART:20230101T000000
END:STANDARD
END:VTIMEZONE
BEGIN:VEVENT
DTSTART;TZID=UTC:20241113T130000
DTEND;TZID=UTC:20241114T130000
DTSTAMP:20260425T190337
CREATED:20231211T202311Z
LAST-MODIFIED:20240913T194557Z
UID:3140-1731502800-1731589200@dakotaresources.org
SUMMARY:Housing Gathering
DESCRIPTION:How might we expand housing options for Active Agers (the 55+ crowd) to increase workforce housing in our communities?\nAgenda\nDay 1: November 13th\, 2024\n(Optional) 10:00 a.m. – 12:00 p.m.: Housing Tour of Lead\, hosted by Emma Garvin \n1:00 – 1:30 p.m.: Opening \n1:30 – 2:15 p.m.: Interactive Workshop: What’s getting in the way of this type of housing activity? \n2:15 – 3:30 p.m.: Speaker Samar Jha\, AARP’s Local and State Housing Advocacy \n3:45 – 4:45 p.m.: Housing Case Studies \n4:45 – 5:30 p.m.: Tour and Social \n6:30 p.m.: Dinner & Awards \nDay 2: November 14th\, 2024\n8:30 – 9:00 a.m.: Opening \n9:00 – 9:45 a.m.: Skill Building Workshop \n9:45 a.m. – 12:15 p.m.: Reverse RFP Process \n12:15 – 12:45 p.m.: Lunch \n12:45 – 1:45 p.m.: Skill Building Workshop with Amy Eldridge\, South Dakota Housing Development Authority \n1:45 – 2:00 p.m.: Closing \nWe have a block of rooms at the The Lodge in Deadwood\, SD for Wednesday at a rate of $99 + tax per night. The block of room closes on October 13th. \nCall the hotel directly at (605) 584-4800 to book your room. Mention “Dakota Resources” to receive the group rate. \nRegister Now!Unable to attend but want to stay informed about upcoming events related to housing? Sign up for our mailing list below! \n\n\n                \n                        Email(Required)Name(Required)\n                            \n                            \n                                                    \n                                                    First\n                                                \n                            \n                            \n                                                    \n                                                    Last\n                                                \n                            \n                        Organization
URL:https://dakotaresources.org/event/housing-gathering-2024/
LOCATION:The Lodge at Deadwood\, 100 Pine Crest Ln\, Deadwood\, 57732\, United States
ATTACH;FMTTYPE=image/jpeg:https://dakotaresources.org/wp-content/uploads/2023/12/Brookings-EntrepreneurSupport_1057-Large.jpeg
ORGANIZER;CN="Dakota Resources":MAILTO:info@dakotaresources.org
END:VEVENT
END:VCALENDAR